BEGIN:VCALENDAR
VERSION:2.0
PRODID:-//hacksw/handcal//NONSGML v1.0//EN
CALSCALE:GREGORIAN
BEGIN:VEVENT
DTSTART:20130307T140000Z
DTEND:20130307T160000Z
UID:e13196
DTSTAMP:20260423T185215Z
LOCATION:The David Lopatie Conference Centre
DESCRIPTION:Scientists' Peletron Series
SUMMARY:Scientists' Peletron Series
END:VEVENT
END:VCALENDAR