BEGIN:VCALENDAR
VERSION:2.0
PRODID:-//hacksw/handcal//NONSGML v1.0//EN
CALSCALE:GREGORIAN
BEGIN:VEVENT
DTSTART:20130418T130000Z
DTEND:20130418T153000Z
UID:e13197
DTSTAMP:20260419T210956Z
LOCATION:The David Lopatie Conference Centre
DESCRIPTION:Scientists' Peletron Series
SUMMARY:Scientists' Peletron Series
END:VEVENT
END:VCALENDAR