BEGIN:VCALENDAR
VERSION:2.0
PRODID:-//hacksw/handcal//NONSGML v1.0//EN
CALSCALE:GREGORIAN
BEGIN:VEVENT
DTSTART:20130523T130000Z
DTEND:20130523T151500Z
UID:e13198
DTSTAMP:20260420T062936Z
LOCATION:The David Lopatie Conference Centre
DESCRIPTION:Scientists' Peletron Series
SUMMARY:Scientists' Peletron Series
END:VEVENT
END:VCALENDAR