BEGIN:VCALENDAR
VERSION:2.0
PRODID:-//hacksw/handcal//NONSGML v1.0//EN
CALSCALE:GREGORIAN
BEGIN:VEVENT
DTSTART:20130304T113000Z
DTEND:20130304T123000Z
UID:e13201
DTSTAMP:20260422T182620Z
LOCATION:Perlman Chemical Sciences Building
DESCRIPTION:Magnetic Resonance Seminar
SUMMARY:Magnetic Resonance Seminar
END:VEVENT
END:VCALENDAR