BEGIN:VCALENDAR
VERSION:2.0
PRODID:-//hacksw/handcal//NONSGML v1.0//EN
CALSCALE:GREGORIAN
BEGIN:VEVENT
DTSTART:20130306T090000Z
DTEND:20130306T103000Z
UID:e13204
DTSTAMP:20260423T155423Z
LOCATION:Gerhard M.J. Schmidt Lecture Hall
DESCRIPTION:Spotlight on Science Seminar
SUMMARY:Spotlight on Science Seminar
END:VEVENT
END:VCALENDAR