BEGIN:VCALENDAR
VERSION:2.0
PRODID:-//hacksw/handcal//NONSGML v1.0//EN
CALSCALE:GREGORIAN
BEGIN:VEVENT
DTSTART:20130306T081500Z
DTEND:20130306T081500Z
UID:e13208
DTSTAMP:20260423T033857Z
LOCATION:Ullmann Building of Life Sciences
DESCRIPTION:"Strategies to improve protein quality of common bean (Phaseolus vulgaris) by modifying storage protein composition or sulphur metabolic pathways"
SUMMARY:"Strategies to improve protein quality of common bean (Phaseolus vulgaris) by modifying storage protein composition or sulphur metabolic pathways"
END:VEVENT
END:VCALENDAR