BEGIN:VCALENDAR
VERSION:2.0
PRODID:-//hacksw/handcal//NONSGML v1.0//EN
CALSCALE:GREGORIAN
BEGIN:VEVENT
DTSTART:20130528T070000Z
DTEND:20130528T070000Z
UID:e13210
DTSTAMP:20260420T194200Z
LOCATION:Wolfson Building for Biological Research
DESCRIPTION:Mechanisms operating in organ formation: insights from the fly wing
SUMMARY:Mechanisms operating in organ formation: insights from the fly wing
END:VEVENT
END:VCALENDAR