BEGIN:VCALENDAR
VERSION:2.0
PRODID:-//hacksw/handcal//NONSGML v1.0//EN
CALSCALE:GREGORIAN
BEGIN:VEVENT
DTSTART:20130305T080000Z
DTEND:20130305T080000Z
UID:e13211
DTSTAMP:20260423T033857Z
LOCATION:Jacob Ziskind Building
DESCRIPTION:Real differential forms and currents on p-adic analytic spaces (joint work with Antoine Chambert-Loir)
SUMMARY:Real differential forms and currents on p-adic analytic spaces (joint work with Antoine Chambert-Loir)
END:VEVENT
END:VCALENDAR