BEGIN:VCALENDAR
VERSION:2.0
PRODID:-//hacksw/handcal//NONSGML v1.0//EN
CALSCALE:GREGORIAN
BEGIN:VEVENT
DTSTART:20130307T081500Z
DTEND:20130307T093000Z
UID:e13214
DTSTAMP:20260423T185229Z
LOCATION:Edna and K.B. Weissman Building of Physical Sciences
DESCRIPTION:SEARCHING FOR EARTH-TWINS AROUND SOLAR-TYPE STARS
SUMMARY:SEARCHING FOR EARTH-TWINS AROUND SOLAR-TYPE STARS
END:VEVENT
END:VCALENDAR