BEGIN:VCALENDAR
VERSION:2.0
PRODID:-//hacksw/handcal//NONSGML v1.0//EN
CALSCALE:GREGORIAN
BEGIN:VEVENT
DTSTART:20130311T080000Z
DTEND:20130311T080000Z
UID:e13216
DTSTAMP:20260423T185216Z
LOCATION:Helen and Milton A. Kimmelman Building
DESCRIPTION:Hierarchical Nanostructured 3D Flowerlike BiOClxBr1&#8722\;x  Semiconductors with Exceptional Visible Light Photocatalytic Activity
SUMMARY:Hierarchical Nanostructured 3D Flowerlike BiOClxBr1&#8722\;x  Semiconductors with Exceptional Visible Light Photocatalytic Activity
END:VEVENT
END:VCALENDAR