BEGIN:VCALENDAR
VERSION:2.0
PRODID:-//hacksw/handcal//NONSGML v1.0//EN
CALSCALE:GREGORIAN
BEGIN:VEVENT
DTSTART:20130528T173000Z
DTEND:20130528T173000Z
UID:e13217
DTSTAMP:20260420T194152Z
LOCATION:Michael Sela Auditorium
DESCRIPTION:Brazil is Here!
SUMMARY:Brazil is Here!
END:VEVENT
END:VCALENDAR