BEGIN:VCALENDAR
VERSION:2.0
PRODID:-//hacksw/handcal//NONSGML v1.0//EN
CALSCALE:GREGORIAN
BEGIN:VEVENT
DTSTART:20130408T113000Z
DTEND:20130408T113000Z
UID:e13227
DTSTAMP:20260420T194200Z
LOCATION:Jacob Ziskind Building
DESCRIPTION:The Space Complexity of Dynamic Approximate Set Membership 
SUMMARY:The Space Complexity of Dynamic Approximate Set Membership 
END:VEVENT
END:VCALENDAR