BEGIN:VCALENDAR
VERSION:2.0
PRODID:-//hacksw/handcal//NONSGML v1.0//EN
CALSCALE:GREGORIAN
BEGIN:VEVENT
DTSTART:20130314T070000Z
DTEND:20130314T080000Z
UID:e13229
DTSTAMP:20260423T185212Z
LOCATION:Michael Sela Auditorium
DESCRIPTION:"Ceramide/cholesterol ordered domains in the cells"
SUMMARY:"Ceramide/cholesterol ordered domains in the cells"
END:VEVENT
END:VCALENDAR