BEGIN:VCALENDAR
VERSION:2.0
PRODID:-//hacksw/handcal//NONSGML v1.0//EN
CALSCALE:GREGORIAN
BEGIN:VEVENT
DTSTART:20130402T090000Z
DTEND:20130402T090000Z
UID:e13230
DTSTAMP:20260420T155035Z
LOCATION:Wolfson Building for Biological Research
DESCRIPTION:p53 and friends under glucose starvation
SUMMARY:p53 and friends under glucose starvation
END:VEVENT
END:VCALENDAR