BEGIN:VCALENDAR
VERSION:2.0
PRODID:-//hacksw/handcal//NONSGML v1.0//EN
CALSCALE:GREGORIAN
BEGIN:VEVENT
DTSTART:20130311T080000Z
DTEND:20130311T080000Z
UID:e13231
DTSTAMP:20260423T185225Z
LOCATION:Jacob Ziskind Building
DESCRIPTION:Cyclic elements in semisimple Lie Algebras 
SUMMARY:Cyclic elements in semisimple Lie Algebras 
END:VEVENT
END:VCALENDAR