BEGIN:VCALENDAR
VERSION:2.0
PRODID:-//hacksw/handcal//NONSGML v1.0//EN
CALSCALE:GREGORIAN
BEGIN:VEVENT
DTSTART:20130313T060000Z
DTEND:20130313T090000Z
UID:e13235
DTSTAMP:20260424T050212Z
LOCATION:Harry Levine Family Building
DESCRIPTION:Bioinformatics workshop: UCSC Genome Browser Basics
SUMMARY:Bioinformatics workshop: UCSC Genome Browser Basics
END:VEVENT
END:VCALENDAR