BEGIN:VCALENDAR
VERSION:2.0
PRODID:-//hacksw/handcal//NONSGML v1.0//EN
CALSCALE:GREGORIAN
BEGIN:VEVENT
DTSTART:20130320T080000Z
DTEND:20130320T080000Z
UID:e13239
DTSTAMP:20260424T050120Z
LOCATION:Jacob Ziskind Building
DESCRIPTION:Local Rankin-Selberg integrals for SO(2l) x GL(n) 
SUMMARY:Local Rankin-Selberg integrals for SO(2l) x GL(n) 
END:VEVENT
END:VCALENDAR