BEGIN:VCALENDAR
VERSION:2.0
PRODID:-//hacksw/handcal//NONSGML v1.0//EN
CALSCALE:GREGORIAN
BEGIN:VEVENT
DTSTART:20130314T090000Z
DTEND:20130314T090000Z
UID:e13243
DTSTAMP:20260424T223811Z
LOCATION:Jacob Ziskind Building
DESCRIPTION:A Blast from the Past --- Digital Reconstruction and  Vectorization of Classic Comic Books and Old School Pixel Art
SUMMARY:A Blast from the Past --- Digital Reconstruction and  Vectorization of Classic Comic Books and Old School Pixel Art
END:VEVENT
END:VCALENDAR