BEGIN:VCALENDAR
VERSION:2.0
PRODID:-//hacksw/handcal//NONSGML v1.0//EN
CALSCALE:GREGORIAN
BEGIN:VEVENT
DTSTART:20130319T080000Z
DTEND:20130319T080000Z
UID:e13250
DTSTAMP:20260424T225404Z
LOCATION:Sussman Family Building for Environmental Sciences
DESCRIPTION:The last millennium climate of the South Eastern Mediterranean reconstructed from oxygen and carbon stable isotopes of the reef builder vermetid\, denedropoma peatreum
SUMMARY:The last millennium climate of the South Eastern Mediterranean reconstructed from oxygen and carbon stable isotopes of the reef builder vermetid\, denedropoma peatreum
END:VEVENT
END:VCALENDAR