BEGIN:VCALENDAR
VERSION:2.0
PRODID:-//hacksw/handcal//NONSGML v1.0//EN
CALSCALE:GREGORIAN
BEGIN:VEVENT
DTSTART:20130506T084500Z
DTEND:20130506T100000Z
UID:e13252
DTSTAMP:20260420T194136Z
LOCATION:Dolfi and Lola Ebner Auditorium
DESCRIPTION:Faculty of Chemistry Colloquium -  Prof. Robert Langer
SUMMARY:Faculty of Chemistry Colloquium -  Prof. Robert Langer
END:VEVENT
END:VCALENDAR