BEGIN:VCALENDAR
VERSION:2.0
PRODID:-//hacksw/handcal//NONSGML v1.0//EN
CALSCALE:GREGORIAN
BEGIN:VEVENT
DTSTART:20130620T173000Z
DTEND:20130620T173000Z
UID:e13258
DTSTAMP:20260421T180751Z
LOCATION:Michael Sela Auditorium
DESCRIPTION:"The Great Tisch" (Festive Meal)
SUMMARY:"The Great Tisch" (Festive Meal)
END:VEVENT
END:VCALENDAR