BEGIN:VCALENDAR
VERSION:2.0
PRODID:-//hacksw/handcal//NONSGML v1.0//EN
CALSCALE:GREGORIAN
BEGIN:VEVENT
DTSTART:20130408T100000Z
DTEND:20130408T100000Z
UID:e13263
DTSTAMP:20260420T054853Z
LOCATION:Arthur and Rochelle Belfer Building for Biomedical Research
DESCRIPTION:From the cradle to the grave: protein folding and misfolding in health and disease
SUMMARY:From the cradle to the grave: protein folding and misfolding in health and disease
END:VEVENT
END:VCALENDAR