BEGIN:VCALENDAR
VERSION:2.0
PRODID:-//hacksw/handcal//NONSGML v1.0//EN
CALSCALE:GREGORIAN
BEGIN:VEVENT
DTSTART:20130319T080000Z
DTEND:20130319T100000Z
UID:e13268
DTSTAMP:20260423T185218Z
LOCATION:Dolfi and Lola Ebner Auditorium
DESCRIPTION:Merck-Serono supported lectures:Reaching from the bench to the clinic
SUMMARY:Merck-Serono supported lectures:Reaching from the bench to the clinic
END:VEVENT
END:VCALENDAR