BEGIN:VCALENDAR
VERSION:2.0
PRODID:-//hacksw/handcal//NONSGML v1.0//EN
CALSCALE:GREGORIAN
BEGIN:VEVENT
DTSTART:20130320T130000Z
DTEND:20130320T130000Z
UID:e13270
DTSTAMP:20260423T185229Z
LOCATION:The David Lopatie Hall of Graduate Studies
DESCRIPTION:A very smooth ride in rough sea 
SUMMARY:A very smooth ride in rough sea 
END:VEVENT
END:VCALENDAR