BEGIN:VCALENDAR
VERSION:2.0
PRODID:-//hacksw/handcal//NONSGML v1.0//EN
CALSCALE:GREGORIAN
BEGIN:VEVENT
DTSTART:20130527T090000Z
DTEND:20130527T090000Z
UID:e13280
DTSTAMP:20260421T102942Z
LOCATION:Wolfson Building for Biological Research
DESCRIPTION:T Cell Immunotherapy:  Lesson from tumors and viruses
SUMMARY:T Cell Immunotherapy:  Lesson from tumors and viruses
END:VEVENT
END:VCALENDAR