BEGIN:VCALENDAR
VERSION:2.0
PRODID:-//hacksw/handcal//NONSGML v1.0//EN
CALSCALE:GREGORIAN
BEGIN:VEVENT
DTSTART:20130428T111500Z
DTEND:20130428T130000Z
UID:e13281
DTSTAMP:20260420T194151Z
LOCATION:Edna and K.B. Weissman Building of Physical Sciences
DESCRIPTION:Analysis of 10\,000-eV dielectronic resonances using 80-eV forbidden lines
SUMMARY:Analysis of 10\,000-eV dielectronic resonances using 80-eV forbidden lines
END:VEVENT
END:VCALENDAR