BEGIN:VCALENDAR
VERSION:2.0
PRODID:-//hacksw/handcal//NONSGML v1.0//EN
CALSCALE:GREGORIAN
BEGIN:VEVENT
DTSTART:20130529T090000Z
DTEND:20130529T090000Z
UID:e13285
DTSTAMP:20260420T045925Z
LOCATION:Arthur and Rochelle Belfer Building for Biomedical Research
DESCRIPTION:Single molecule approaches to study gene expression in intact mammalian tissues
SUMMARY:Single molecule approaches to study gene expression in intact mammalian tissues
END:VEVENT
END:VCALENDAR