BEGIN:VCALENDAR
VERSION:2.0
PRODID:-//hacksw/handcal//NONSGML v1.0//EN
CALSCALE:GREGORIAN
BEGIN:VEVENT
DTSTART:20130404T110000Z
DTEND:20130404T130000Z
UID:e13288
DTSTAMP:20260423T044532Z
LOCATION:Gerhard M.J. Schmidt Lecture Hall
DESCRIPTION:Weizmann Metabolic Forum - special seminar
SUMMARY:Weizmann Metabolic Forum - special seminar
END:VEVENT
END:VCALENDAR