BEGIN:VCALENDAR
VERSION:2.0
PRODID:-//hacksw/handcal//NONSGML v1.0//EN
CALSCALE:GREGORIAN
BEGIN:VEVENT
DTSTART:20130406T180000Z
DTEND:20130406T180000Z
UID:e13289
DTSTAMP:20260421T085411Z
LOCATION:Michael Sela Auditorium
DESCRIPTION:One Wish to the Right
SUMMARY:One Wish to the Right
END:VEVENT
END:VCALENDAR