BEGIN:VCALENDAR
VERSION:2.0
PRODID:-//hacksw/handcal//NONSGML v1.0//EN
CALSCALE:GREGORIAN
BEGIN:VEVENT
DTSTART:20130402T060000Z
DTEND:20130402T140000Z
UID:e13295
DTSTAMP:20260420T054859Z
LOCATION:Gerhard M.J. Schmidt Lecture Hall
DESCRIPTION:Biomedical Magnetic Resonance in Israel: A pre-ISMRM Symposium 
SUMMARY:Biomedical Magnetic Resonance in Israel: A pre-ISMRM Symposium 
END:VEVENT
END:VCALENDAR