BEGIN:VCALENDAR
VERSION:2.0
PRODID:-//hacksw/handcal//NONSGML v1.0//EN
CALSCALE:GREGORIAN
BEGIN:VEVENT
DTSTART:20130404T081500Z
DTEND:20130404T093000Z
UID:e13296
DTSTAMP:20260420T155231Z
LOCATION:Weizmann House
DESCRIPTION:There's Life at Absolute Zero: Exotic Phases of Quantum Matter
SUMMARY:There's Life at Absolute Zero: Exotic Phases of Quantum Matter
END:VEVENT
END:VCALENDAR