BEGIN:VCALENDAR
VERSION:2.0
PRODID:-//hacksw/handcal//NONSGML v1.0//EN
CALSCALE:GREGORIAN
BEGIN:VEVENT
DTSTART:20130408T131500Z
DTEND:20130408T141500Z
UID:e13299
DTSTAMP:20260420T115044Z
LOCATION:
DESCRIPTION:"Search for neutron-rich hypernuclei: Lambda-6H and beyond"
SUMMARY:"Search for neutron-rich hypernuclei: Lambda-6H and beyond"
END:VEVENT
END:VCALENDAR