BEGIN:VCALENDAR
VERSION:2.0
PRODID:-//hacksw/handcal//NONSGML v1.0//EN
CALSCALE:GREGORIAN
BEGIN:VEVENT
DTSTART:20130410T093000Z
DTEND:20130410T093000Z
UID:e13301
DTSTAMP:20260420T085610Z
LOCATION:Michael Sela Auditorium
DESCRIPTION:And You Love
SUMMARY:And You Love
END:VEVENT
END:VCALENDAR