BEGIN:VCALENDAR
VERSION:2.0
PRODID:-//hacksw/handcal//NONSGML v1.0//EN
CALSCALE:GREGORIAN
BEGIN:VEVENT
DTSTART:20130410T100000Z
DTEND:20130410T110000Z
UID:e13305
DTSTAMP:20260420T194250Z
LOCATION:Gerhard M.J. Schmidt Lecture Hall
DESCRIPTION:General Staff Scientists Meeting
SUMMARY:General Staff Scientists Meeting
END:VEVENT
END:VCALENDAR