BEGIN:VCALENDAR
VERSION:2.0
PRODID:-//hacksw/handcal//NONSGML v1.0//EN
CALSCALE:GREGORIAN
BEGIN:VEVENT
DTSTART:20130414T100000Z
DTEND:20130414T100000Z
UID:e13309
DTSTAMP:20260421T114630Z
LOCATION:Arthur and Rochelle Belfer Building for Biomedical Research
DESCRIPTION: Attempts toward In vivo visualization of 20S proteasome interacting proteins and substrates
SUMMARY: Attempts toward In vivo visualization of 20S proteasome interacting proteins and substrates
END:VEVENT
END:VCALENDAR