BEGIN:VCALENDAR
VERSION:2.0
PRODID:-//hacksw/handcal//NONSGML v1.0//EN
CALSCALE:GREGORIAN
BEGIN:VEVENT
DTSTART:20130512T100000Z
DTEND:20130512T100000Z
UID:e13312
DTSTAMP:20260419T224752Z
LOCATION:Arthur and Rochelle Belfer Building for Biomedical Research
DESCRIPTION:A contact site between mitochondria and vacuoles serves as a bypass for phospholipid transfer
SUMMARY:A contact site between mitochondria and vacuoles serves as a bypass for phospholipid transfer
END:VEVENT
END:VCALENDAR