BEGIN:VCALENDAR
VERSION:2.0
PRODID:-//hacksw/handcal//NONSGML v1.0//EN
CALSCALE:GREGORIAN
BEGIN:VEVENT
DTSTART:20130623T100000Z
DTEND:20130623T100000Z
UID:e13314
DTSTAMP:20260421T180754Z
LOCATION:Arthur and Rochelle Belfer Building for Biomedical Research
DESCRIPTION:Deterministic and Synchronized Induction of Pluripotency in Somatic Cells
SUMMARY:Deterministic and Synchronized Induction of Pluripotency in Somatic Cells
END:VEVENT
END:VCALENDAR