BEGIN:VCALENDAR
VERSION:2.0
PRODID:-//hacksw/handcal//NONSGML v1.0//EN
CALSCALE:GREGORIAN
BEGIN:VEVENT
DTSTART:20130630T100000Z
DTEND:20130630T100000Z
UID:e13318
DTSTAMP:20260421T150451Z
LOCATION:Arthur and Rochelle Belfer Building for Biomedical Research
DESCRIPTION:An unexpected link between protein quality control and lipid droplets
SUMMARY:An unexpected link between protein quality control and lipid droplets
END:VEVENT
END:VCALENDAR