BEGIN:VCALENDAR
VERSION:2.0
PRODID:-//hacksw/handcal//NONSGML v1.0//EN
CALSCALE:GREGORIAN
BEGIN:VEVENT
DTSTART:20130428T130000Z
DTEND:20130428T130000Z
UID:e13319
DTSTAMP:20260420T115054Z
LOCATION:Jacob Ziskind Building
DESCRIPTION:Bifurcations of blowup in inviscid shell models of convective turbulence 
SUMMARY:Bifurcations of blowup in inviscid shell models of convective turbulence 
END:VEVENT
END:VCALENDAR