BEGIN:VCALENDAR
VERSION:2.0
PRODID:-//hacksw/handcal//NONSGML v1.0//EN
CALSCALE:GREGORIAN
BEGIN:VEVENT
DTSTART:20130425T080000Z
DTEND:20130425T080000Z
UID:e13320
DTSTAMP:20260419T224758Z
LOCATION:Jacob Ziskind Building
DESCRIPTION:Viscosity limit of solutions of Navier-Stokes equations with rough initial data
SUMMARY:Viscosity limit of solutions of Navier-Stokes equations with rough initial data
END:VEVENT
END:VCALENDAR