BEGIN:VCALENDAR
VERSION:2.0
PRODID:-//hacksw/handcal//NONSGML v1.0//EN
CALSCALE:GREGORIAN
BEGIN:VEVENT
DTSTART:20130430T080000Z
DTEND:20130430T080000Z
UID:e13321
DTSTAMP:20260421T051156Z
LOCATION:Jacob Ziskind Building
DESCRIPTION:On sharp weighted norm inequalities for singular integral operators 
SUMMARY:On sharp weighted norm inequalities for singular integral operators 
END:VEVENT
END:VCALENDAR