BEGIN:VCALENDAR
VERSION:2.0
PRODID:-//hacksw/handcal//NONSGML v1.0//EN
CALSCALE:GREGORIAN
BEGIN:VEVENT
DTSTART:20130409T130000Z
DTEND:20130409T130000Z
UID:e13324
DTSTAMP:20260420T115055Z
LOCATION:Nella and Leon Benoziyo Building for Brain Research
DESCRIPTION:Localization of Functions in the Human Brain:Combined Neuroimaging\, Intracranial EEG\, and Electrical Brain Stimulation  
SUMMARY:Localization of Functions in the Human Brain:Combined Neuroimaging\, Intracranial EEG\, and Electrical Brain Stimulation  
END:VEVENT
END:VCALENDAR