BEGIN:VCALENDAR
VERSION:2.0
PRODID:-//hacksw/handcal//NONSGML v1.0//EN
CALSCALE:GREGORIAN
BEGIN:VEVENT
DTSTART:20130612T143000Z
DTEND:20130612T143000Z
UID:e13325
DTSTAMP:20260420T091549Z
LOCATION:Michael Sela Auditorium
DESCRIPTION:"What a sweet birthday!"
SUMMARY:"What a sweet birthday!"
END:VEVENT
END:VCALENDAR