BEGIN:VCALENDAR
VERSION:2.0
PRODID:-//hacksw/handcal//NONSGML v1.0//EN
CALSCALE:GREGORIAN
BEGIN:VEVENT
DTSTART:20130417T070000Z
DTEND:20130417T080000Z
UID:e13333
DTSTAMP:20260419T210952Z
LOCATION:Nella and Leon Benoziyo Physics Building
DESCRIPTION:Distal Terrains on Asteroid 4 Vesta Resulting from the Rheasilvia Impact
SUMMARY:Distal Terrains on Asteroid 4 Vesta Resulting from the Rheasilvia Impact
END:VEVENT
END:VCALENDAR