BEGIN:VCALENDAR
VERSION:2.0
PRODID:-//hacksw/handcal//NONSGML v1.0//EN
CALSCALE:GREGORIAN
BEGIN:VEVENT
DTSTART:20130418T081500Z
DTEND:20130418T093000Z
UID:e13335
DTSTAMP:20260419T210957Z
LOCATION:Edna and K.B. Weissman Building of Physical Sciences
DESCRIPTION:Oxide Interfaces &#8211\; A Fantastic World for Electrons\;From MOSFETs to Novel Electron Systems 
SUMMARY:Oxide Interfaces &#8211\; A Fantastic World for Electrons\;From MOSFETs to Novel Electron Systems 
END:VEVENT
END:VCALENDAR