BEGIN:VCALENDAR
VERSION:2.0
PRODID:-//hacksw/handcal//NONSGML v1.0//EN
CALSCALE:GREGORIAN
BEGIN:VEVENT
DTSTART:19691231T160000Z
DTEND:19691231T160000Z
UID:e13337
DTSTAMP:20260421T001945Z
LOCATION:
DESCRIPTION:Autocatalytic processes lead to the emergence of macroscopic dynamics out of microscopic interactions
SUMMARY:Autocatalytic processes lead to the emergence of macroscopic dynamics out of microscopic interactions
END:VEVENT
END:VCALENDAR