BEGIN:VCALENDAR
VERSION:2.0
PRODID:-//hacksw/handcal//NONSGML v1.0//EN
CALSCALE:GREGORIAN
BEGIN:VEVENT
DTSTART:20130506T110000Z
DTEND:20130506T110000Z
UID:e13343
DTSTAMP:20260420T155053Z
LOCATION:Arthur and Rochelle Belfer Building for Biomedical Research
DESCRIPTION:Functional interplay between transcription factors and chromatin
SUMMARY:Functional interplay between transcription factors and chromatin
END:VEVENT
END:VCALENDAR