BEGIN:VCALENDAR
VERSION:2.0
PRODID:-//hacksw/handcal//NONSGML v1.0//EN
CALSCALE:GREGORIAN
BEGIN:VEVENT
DTSTART:20130423T080000Z
DTEND:20130423T080000Z
UID:e13348
DTSTAMP:20260419T224759Z
LOCATION:Helen and Milton A. Kimmelman Building
DESCRIPTION:" Organic Chemistry of CNTs for Nanotechnological Applications"
SUMMARY:" Organic Chemistry of CNTs for Nanotechnological Applications"
END:VEVENT
END:VCALENDAR