BEGIN:VCALENDAR
VERSION:2.0
PRODID:-//hacksw/handcal//NONSGML v1.0//EN
CALSCALE:GREGORIAN
BEGIN:VEVENT
DTSTART:20130424T080000Z
DTEND:20130424T080000Z
UID:e13353
DTSTAMP:20260419T224759Z
LOCATION:Jacob Ziskind Building
DESCRIPTION:Degree-like functions in complex and real algebraic geometry 
SUMMARY:Degree-like functions in complex and real algebraic geometry 
END:VEVENT
END:VCALENDAR