BEGIN:VCALENDAR
VERSION:2.0
PRODID:-//hacksw/handcal//NONSGML v1.0//EN
CALSCALE:GREGORIAN
BEGIN:VEVENT
DTSTART:20130430T070000Z
DTEND:20130430T080000Z
UID:e13354
DTSTAMP:20260420T115044Z
LOCATION:Arthur and Rochelle Belfer Building for Biomedical Research
DESCRIPTION:Viral vectors - harness the menace
SUMMARY:Viral vectors - harness the menace
END:VEVENT
END:VCALENDAR